View In:
ArcGIS JavaScript
ArcGIS.com Map
Google Earth
ArcMap
ArcGIS Explorer
View Footprint In:
ArcGIS.com Map
Service Description: Транспортная освоенность – важный показателей, отражающий уровень автомобилизации и обеспеченности населения качественными транспортными сетями. Зависит от протяженности, конфигурации и разветвленности сети автомобильных дорог. Чем выше показатель транспортной освоенности, тем лучше развита та или иная транспортная сеть в регионе.
Map Name: Слои
Legend
All Layers and Tables
Layers:
Description:
Copyright Text: ООО "Дорнадзор"
Spatial Reference:
102100
(3857)
Single Fused Map Cache: true
Tile Info:
- Height: 256
- Width: 256
- DPI: 96
-
Levels of Detail: 20
-
Level ID: 0
[ Start Tile, End Tile ]
- Resolution: 156543.03392800014
- Scale: 5.91657527591555E8
-
Level ID: 1
[ Start Tile, End Tile ]
- Resolution: 78271.51696399994
- Scale: 2.95828763795777E8
-
Level ID: 2
[ Start Tile, End Tile ]
- Resolution: 39135.75848200009
- Scale: 1.47914381897889E8
-
Level ID: 3
[ Start Tile, End Tile ]
- Resolution: 19567.87924099992
- Scale: 7.3957190948944E7
-
Level ID: 4
[ Start Tile, End Tile ]
- Resolution: 9783.93962049996
- Scale: 3.6978595474472E7
-
Level ID: 5
[ Start Tile, End Tile ]
- Resolution: 4891.96981024998
- Scale: 1.8489297737236E7
- Format: PNG
- Compression Quality: 0.0
- Origin: X: -2.0037508342787E7
Y: 2.0037508342787E7
- Spatial Reference: 102100
(3857)
Initial Extent:
XMin: 5457800.529959758
YMin: 7513190.773048244
XMax: 5491231.977583493
YMax: 7531244.535272923
Spatial Reference: 102100
Full Extent:
XMin: 5434019.270447523
YMin: 7478940.81178217
XMax: 5497749.845860657
YMax: 7546583.338012236
Spatial Reference: 102100
Units: esriMeters
Supported Image Format Types: PNG32,PNG24,PNG,JPG,DIB,TIFF,EMF,PS,PDF,GIF,SVG,SVGZ,BMP
Document Info:
Title:
Author:
Comments: Транспортная освоенность – важный показателей, отражающий уровень автомобилизации и обеспеченности населения качественными транспортными сетями. Зависит от протяженности, конфигурации и разветвленности сети автомобильных дорог. Чем выше показатель транспортной освоенности, тем лучше развита та или иная транспортная сеть в регионе.
Subject: Транспортная освоенность, Казань
Category:
Keywords:
AntialiasingMode: None
TextAntialiasingMode: Force
Supports Dynamic Layers: false
MaxRecordCount: 1000
MaxImageHeight: 4096
MaxImageWidth: 4096
Supported Query Formats: JSON, AMF
Min Scale: 577790.554289
Max Scale: 1128.497176
Child Resources:
Info
Supported Operations:
Export Map
Identify
Find
Return Updates